BEGIN:VCALENDAR
VERSION:2.0
CALSCALE:GREGORIAN
PRODID:-//Diputació de Barcelona//DibaCMS//EN
BEGIN:VEVENT
UID:56921
DTSTAMP:20260421T012042
DTSTART:20230611T120000
DTEND:20230611T120000
SUMMARY:25è Cicle de Concerts a Sanata
LOCATION:
METHOD:PUBLISH
X-WR-CALNAME:info@llinarsdelvalles.cat
X-WR-TIMEZONE:Europe/Madrid
DESCRIPTION:El Quartet Prysma ens oferirà “Postals americanes” amb obres d'A. Piazzola, I. Cervantes, H. Villa-Lobos, I. Bernstein i A. Márquez.

URI:https://www.llinarsdelvalles.cat/actualitat/agenda/56921-25e-cicle-de-concerts-a-sanata.html
CLASS:PUBLIC
END:VEVENT
END:VCALENDAR
