BEGIN:VCALENDAR
VERSION:2.0
CALSCALE:GREGORIAN
PRODID:-//Diputació de Barcelona//DibaCMS//EN
BEGIN:VEVENT
UID:56922
DTSTAMP:20260421T062051
DTSTART:20230701T110000
DTEND:20230701T130000
SUMMARY:Simultànies d'escacs amb 3 joves esportistes del club
LOCATION:Ronda Sant Antoni, 19 08450 Llinars del Vallès
METHOD:PUBLISH
X-WR-CALNAME:info@llinarsdelvalles.cat
X-WR-TIMEZONE:Europe/Madrid
DESCRIPTION:Gratuït. Lot de productes locals per als que aconsegueixin guanyar la seva partida!

URI:https://www.llinarsdelvalles.cat/actualitat/agenda/simultanies-descacs-amb-3-joves-esportistes-del-club.html
CLASS:PUBLIC
END:VEVENT
END:VCALENDAR
