BEGIN:VCALENDAR
VERSION:2.0
CALSCALE:GREGORIAN
PRODID:-//Diputació de Barcelona//DibaCMS//EN
BEGIN:VEVENT
UID:56928
DTSTAMP:20260421T073122
DTSTART:20230621T000000
DTEND:20230622T000000
SUMMARY:Portes obertes de l'Escola de Música
LOCATION:Carrer Còrsega, 10 (Can Moix) 08450 Llinars del Vallès
METHOD:PUBLISH
X-WR-CALNAME:info@llinarsdelvalles.cat
X-WR-TIMEZONE:Europe/Madrid
DESCRIPTION:Dimecres, 21 de juny - 17.15 h - famílies alumnat de 3 a 8 anys.
Dijous, 22 de juny - 18.15 h - famílies alumnat de 9 a 18 anys.

URI:https://www.llinarsdelvalles.cat/actualitat/agenda/portes-obertes-de-lescola-de-musica.html
CLASS:PUBLIC
END:VEVENT
END:VCALENDAR
