BEGIN:VCALENDAR
VERSION:2.0
CALSCALE:GREGORIAN
PRODID:-//Diputació de Barcelona//DibaCMS//EN
BEGIN:VEVENT
UID:56932
DTSTAMP:20260421T061320
DTSTART:20230701T180000
DTEND:20230701T180000
SUMMARY:"El poble que dansa"
LOCATION:08450 Llinars del Vallès
METHOD:PUBLISH
X-WR-CALNAME:info@llinarsdelvalles.cat
X-WR-TIMEZONE:Europe/Madrid
DESCRIPTION:Vine a conèixer de primera mà el projecte i a gaudir d'una botifarrada i del ball folk que ens oferirà el grup "Els Elements".

URI:https://www.llinarsdelvalles.cat/actualitat/agenda/el-poble-que-dansa.html
CLASS:PUBLIC
END:VEVENT
END:VCALENDAR
