BEGIN:VCALENDAR
VERSION:2.0
CALSCALE:GREGORIAN
PRODID:-//Diputació de Barcelona//DibaCMS//EN
BEGIN:VEVENT
UID:56934
DTSTAMP:20260421T073239
DTSTART:20230702T100000
DTEND:20230702T130000
SUMMARY:Ràpides d'escacs per aficionats
LOCATION:Ronda Sant Antoni, 19 08450 Llinars del Vallès
METHOD:PUBLISH
X-WR-CALNAME:info@llinarsdelvalles.cat
X-WR-TIMEZONE:Europe/Madrid
DESCRIPTION:Informació a www.llinarsopen.cat o al mail internationalchessopen@escacsllinars.cat.

URI:https://www.llinarsdelvalles.cat/actualitat/agenda/rapides-descacs-per-aficionats.html
CLASS:PUBLIC
END:VEVENT
END:VCALENDAR
