BEGIN:VCALENDAR
VERSION:2.0
CALSCALE:GREGORIAN
PRODID:-//Diputació de Barcelona//DibaCMS//EN
BEGIN:VEVENT
UID:56936
DTSTAMP:20260421T072742
DTSTART:20230702T170000
DTEND:20230702T170000
SUMMARY:Festa d'estiu amb ball
LOCATION:C/ Ramon i Cajal - (cantonada Av. Granollers) 08450 Llinars del Vallés
METHOD:PUBLISH
X-WR-CALNAME:info@llinarsdelvalles.cat
X-WR-TIMEZONE:Europe/Madrid
DESCRIPTION:"Diables, foc, olors i colors. Diversió!"
Organitza: Associació Gent Gran i Pensionista

URI:https://www.llinarsdelvalles.cat/actualitat/agenda/festa-destiu-amb-ball.html
CLASS:PUBLIC
END:VEVENT
END:VCALENDAR
