BEGIN:VCALENDAR
VERSION:2.0
CALSCALE:GREGORIAN
PRODID:-//Diputació de Barcelona//DibaCMS//EN
BEGIN:VEVENT
UID:56938
DTSTAMP:20260421T021744
DTSTART:20230706T170000
DTEND:20230706T200000
SUMMARY:Donació de sang
LOCATION:C/ Josep Argila, 39 08450 Llinars del Vallés
METHOD:PUBLISH
X-WR-CALNAME:info@llinarsdelvalles.cat
X-WR-TIMEZONE:Europe/Madrid
DESCRIPTION:Atenció! Aquesta vegada també pel matí!
Dona sang, dona vida!

Horaris: De 10 a 13 h i de 17 a 21 h

URI:https://www.llinarsdelvalles.cat/actualitat/agenda/56938-donacio-de-sang.html
CLASS:PUBLIC
END:VEVENT
END:VCALENDAR
