BEGIN:VCALENDAR
VERSION:2.0
CALSCALE:GREGORIAN
PRODID:-//Diputació de Barcelona//DibaCMS//EN
BEGIN:VEVENT
UID:56939
DTSTAMP:20260421T025047
DTSTART:20230706T183000
DTEND:20230706T183000
SUMMARY:Taller familiar "Hort urbà d'autoreg"
LOCATION:Av. Pau Casals, 26 08450 Llinars del Vallès
METHOD:PUBLISH
X-WR-CALNAME:info@llinarsdelvalles.cat
X-WR-TIMEZONE:Europe/Madrid
DESCRIPTION:A càrrec d'Ester casanovas, autora del llibre Pagesos de ciutat.

URI:https://www.llinarsdelvalles.cat/actualitat/agenda/taller-familiar-hort-urba-dautoreg.html
CLASS:PUBLIC
END:VEVENT
END:VCALENDAR
