BEGIN:VCALENDAR
VERSION:2.0
CALSCALE:GREGORIAN
PRODID:-//Diputació de Barcelona//DibaCMS//EN
BEGIN:VEVENT
UID:56940
DTSTAMP:20260421T054300
DTSTART:20230707T180000
DTEND:20230707T180000
SUMMARY:OPEN NIGHT presenta Nit de Contes
LOCATION:
METHOD:PUBLISH
X-WR-CALNAME:info@llinarsdelvalles.cat
X-WR-TIMEZONE:Europe/Madrid
DESCRIPTION:Una tarda infantil màgica i plena de contes. Un vespre adult que ens endinsa entre llençols.
A partir de les 18 h a la plaça Caritg.
Organitza: Ajuntament de Llinars i Ubic

URI:https://www.llinarsdelvalles.cat/actualitat/agenda/open-night-presenta-nit-de-contes.html
CLASS:PUBLIC
END:VEVENT
END:VCALENDAR
