BEGIN:VCALENDAR
VERSION:2.0
CALSCALE:GREGORIAN
PRODID:-//Diputació de Barcelona//DibaCMS//EN
BEGIN:VEVENT
UID:56947
DTSTAMP:20260420T230651
DTSTART:20230708T190000
DTEND:20230708T190000
SUMMARY:Concert Mozart  al Castell 10 anys
LOCATION:08450 Llinars del Vallès
METHOD:PUBLISH
X-WR-CALNAME:info@llinarsdelvalles.cat
X-WR-TIMEZONE:Europe/Madrid
DESCRIPTION:Organitza: Coral Turó del Vent.

URI:https://www.llinarsdelvalles.cat/actualitat/agenda/56947-concert-mozart-al-castell-10-anys.html
CLASS:PUBLIC
END:VEVENT
END:VCALENDAR
