BEGIN:VCALENDAR
VERSION:2.0
CALSCALE:GREGORIAN
PRODID:-//Diputació de Barcelona//DibaCMS//EN
BEGIN:VEVENT
UID:56948
DTSTAMP:20260421T035439
DTSTART:20230708T210000
DTEND:20230708T210000
SUMMARY:Festival de patinatge artístic
LOCATION:Av. Pau Casals, 18-20 (Àrea central) 08450 Llinars del Vallès
METHOD:PUBLISH
X-WR-CALNAME:info@llinarsdelvalles.cat
X-WR-TIMEZONE:Europe/Madrid
DESCRIPTION:
URI:https://www.llinarsdelvalles.cat/actualitat/agenda/festival-de-patinatge-artistic.html
CLASS:PUBLIC
END:VEVENT
END:VCALENDAR
