BEGIN:VCALENDAR
VERSION:2.0
CALSCALE:GREGORIAN
PRODID:-//Diputació de Barcelona//DibaCMS//EN
BEGIN:VEVENT
UID:56963
DTSTAMP:20260421T050022
DTSTART:20230630T170000
DTEND:20230630T170000
SUMMARY:Xerrada - El plaer de ser dona
LOCATION:
METHOD:PUBLISH
X-WR-CALNAME:info@llinarsdelvalles.cat
X-WR-TIMEZONE:Europe/Madrid
DESCRIPTION:A càrrec de Neus Estrada Carreras, psicòloga.

URI:https://www.llinarsdelvalles.cat/actualitat/agenda/xerrada-el-plaer-de-ser-dona.html
CLASS:PUBLIC
END:VEVENT
END:VCALENDAR
