BEGIN:VCALENDAR
VERSION:2.0
CALSCALE:GREGORIAN
PRODID:-//Diputació de Barcelona//DibaCMS//EN
BEGIN:VEVENT
UID:56964
DTSTAMP:20260421T001212
DTSTART:20230706T163000
DTEND:20230727T173000
SUMMARY:Música amb nadons
LOCATION:C/ Ramon i Cajal - (cantonada Av. Granollers) 08450 Llinars del Vallés
METHOD:PUBLISH
X-WR-CALNAME:info@llinarsdelvalles.cat
X-WR-TIMEZONE:Europe/Madrid
DESCRIPTION:Cada dijous del mes de julol. A càrrec d'Anna Lucini. 

URI:https://www.llinarsdelvalles.cat/actualitat/agenda/musica-amb-nadons.html
CLASS:PUBLIC
END:VEVENT
END:VCALENDAR
