BEGIN:VCALENDAR
VERSION:2.0
CALSCALE:GREGORIAN
PRODID:-//Diputació de Barcelona//DibaCMS//EN
BEGIN:VEVENT
UID:56982
DTSTAMP:20260421T000047
DTSTART:20230715T200000
DTEND:20230715T200000
SUMMARY:Caminada noctura 2023
LOCATION:
METHOD:PUBLISH
X-WR-CALNAME:info@llinarsdelvalles.cat
X-WR-TIMEZONE:Europe/Madrid
DESCRIPTION:Més informació i inscripcions a www.cellv.cat

URI:https://www.llinarsdelvalles.cat/actualitat/agenda/caminada-noctura-2023.html
CLASS:PUBLIC
END:VEVENT
END:VCALENDAR
