BEGIN:VCALENDAR
VERSION:2.0
CALSCALE:GREGORIAN
PRODID:-//Diputació de Barcelona//DibaCMS//EN
BEGIN:VEVENT
UID:56985
DTSTAMP:20260421T071345
DTSTART:20230702T100000
DTEND:20230702T130000
SUMMARY:International Chess Blitz Open
LOCATION:Ronda Sant Antoni, 19 08450 Llinars del Vallès
METHOD:PUBLISH
X-WR-CALNAME:info@llinarsdelvalles.cat
X-WR-TIMEZONE:Europe/Madrid
DESCRIPTION:
URI:https://www.llinarsdelvalles.cat/actualitat/agenda/international-chess-blitz-open.html
CLASS:PUBLIC
END:VEVENT
END:VCALENDAR
