BEGIN:VCALENDAR
VERSION:2.0
CALSCALE:GREGORIAN
PRODID:-//Diputació de Barcelona//DibaCMS//EN
BEGIN:VEVENT
UID:56989
DTSTAMP:20260421T001544
DTSTART:20230709T180000
DTEND:20230709T180000
SUMMARY:Festa de Sant Cristòfol
LOCATION:
METHOD:PUBLISH
X-WR-CALNAME:info@llinarsdelvalles.cat
X-WR-TIMEZONE:Europe/Madrid
DESCRIPTION:18 h. Missa i benedicció de vehicles.
19 h. Sardanes.

URI:https://www.llinarsdelvalles.cat/actualitat/agenda/56989-festa-de-sant-cristofol.html
CLASS:PUBLIC
END:VEVENT
END:VCALENDAR
