BEGIN:VCALENDAR
VERSION:2.0
CALSCALE:GREGORIAN
PRODID:-//Diputació de Barcelona//DibaCMS//EN
BEGIN:VEVENT
UID:56991
DTSTAMP:20260420T230717
DTSTART:20230709T120000
DTEND:20230709T120000
SUMMARY:Cicle de Concerts a Sanata "Wiener Klassik"
LOCATION:08450 Llinars del Vallès
METHOD:PUBLISH
X-WR-CALNAME:info@llinarsdelvalles.cat
X-WR-TIMEZONE:Europe/Madrid
DESCRIPTION:A càrrec de la mezzo soprano Susanna Crespo i solistes de la l'Orchestra Barocca Siciliana.

URI:https://www.llinarsdelvalles.cat/actualitat/agenda/cicle-de-concerts-a-sanata-wiener-klassik.html
CLASS:PUBLIC
END:VEVENT
END:VCALENDAR
