BEGIN:VCALENDAR
VERSION:2.0
CALSCALE:GREGORIAN
PRODID:-//Diputació de Barcelona//DibaCMS//EN
BEGIN:VEVENT
UID:56992
DTSTAMP:20260421T061808
DTSTART:20230703T000000
DTEND:20230721T000000
SUMMARY:Exposició "Dins del bosc"
LOCATION:Av. Pau Casals, 26 08450 Llinars del Vallès
METHOD:PUBLISH
X-WR-CALNAME:info@llinarsdelvalles.cat
X-WR-TIMEZONE:Europe/Madrid
DESCRIPTION:Produïda per Tantàgora, conjuntament amb Roser Ros, Miguel Bustos i Andrea Gusi.

URI:https://www.llinarsdelvalles.cat/actualitat/agenda/exposicio-dins-del-bosc.html
CLASS:PUBLIC
END:VEVENT
END:VCALENDAR
