BEGIN:VCALENDAR
VERSION:2.0
CALSCALE:GREGORIAN
PRODID:-//Diputació de Barcelona//DibaCMS//EN
BEGIN:VEVENT
UID:56993
DTSTAMP:20260421T073501
DTSTART:20230703T000000
DTEND:20230727T000000
SUMMARY:Exposició "Romànic del Montseny"
LOCATION:Av. Pau Casals, 26 08450 Llinars del Vallès
METHOD:PUBLISH
X-WR-CALNAME:info@llinarsdelvalles.cat
X-WR-TIMEZONE:Europe/Madrid
DESCRIPTION:A càrrec d'Òscar Farrerons, arquitecte i doctor en Enginyeria Multimèdia.

URI:https://www.llinarsdelvalles.cat/actualitat/agenda/exposicio-romanic-del-montseny.html
CLASS:PUBLIC
END:VEVENT
END:VCALENDAR
