BEGIN:VCALENDAR
VERSION:2.0
CALSCALE:GREGORIAN
PRODID:-//Diputació de Barcelona//DibaCMS//EN
BEGIN:VEVENT
UID:56995
DTSTAMP:20260420T225555
DTSTART:20230711T180000
DTEND:20230711T180000
SUMMARY:Jocs Gegants
LOCATION:Av. Pau Casals, 26 08450 Llinars del Vallès
METHOD:PUBLISH
X-WR-CALNAME:info@llinarsdelvalles.cat
X-WR-TIMEZONE:Europe/Madrid
DESCRIPTION:A càrrec de Mou Fitxa.

URI:https://www.llinarsdelvalles.cat/actualitat/agenda/56995-jocs-gegants.html
CLASS:PUBLIC
END:VEVENT
END:VCALENDAR
