BEGIN:VCALENDAR
VERSION:2.0
CALSCALE:GREGORIAN
PRODID:-//Diputació de Barcelona//DibaCMS//EN
BEGIN:VEVENT
UID:56997
DTSTAMP:20260421T075223
DTSTART:20230712T170000
DTEND:20230712T170000
SUMMARY:Obra de teatre "Els immortals"
LOCATION:Ronda Sant Antoni, 19 08450 Llinars del Vallès
METHOD:PUBLISH
X-WR-CALNAME:info@llinarsdelvalles.cat
X-WR-TIMEZONE:Europe/Madrid
DESCRIPTION:A càrrec de "La Torrassa teatre", del Club Social Torrassa de la Fundació Privada LAR.

URI:https://www.llinarsdelvalles.cat/actualitat/agenda/obra-de-teatre-els-immortals.html
CLASS:PUBLIC
END:VEVENT
END:VCALENDAR
