BEGIN:VCALENDAR
VERSION:2.0
CALSCALE:GREGORIAN
PRODID:-//Diputació de Barcelona//DibaCMS//EN
BEGIN:VEVENT
UID:56999
DTSTAMP:20260421T012601
DTSTART:20230713T180000
DTEND:20230713T180000
SUMMARY:Planetari Immersiu "Exploradors del mar"
LOCATION:Av. Pau Casals, 26 08450 Llinars del Vallès
METHOD:PUBLISH
X-WR-CALNAME:info@llinarsdelvalles.cat
X-WR-TIMEZONE:Europe/Madrid
DESCRIPTION:A càrrec d'explora 360.

URI:https://www.llinarsdelvalles.cat/actualitat/agenda/planetari-immersiu-exploradors-del-mar.html
CLASS:PUBLIC
END:VEVENT
END:VCALENDAR
