BEGIN:VCALENDAR
VERSION:2.0
CALSCALE:GREGORIAN
PRODID:-//Diputació de Barcelona//DibaCMS//EN
BEGIN:VEVENT
UID:57000
DTSTAMP:20260421T002521
DTSTART:20230713T190000
DTEND:20230713T190000
SUMMARY:Planetari Immersiu "La dansa dels Planetes"
LOCATION:Av. Pau Casals, 26 08450 Llinars del Vallès
METHOD:PUBLISH
X-WR-CALNAME:info@llinarsdelvalles.cat
X-WR-TIMEZONE:Europe/Madrid
DESCRIPTION:A càrrec d'explora 360.

URI:https://www.llinarsdelvalles.cat/actualitat/agenda/planetari-immersiu-la-dansa-dels-planetes.html
CLASS:PUBLIC
END:VEVENT
END:VCALENDAR
