BEGIN:VCALENDAR
VERSION:2.0
CALSCALE:GREGORIAN
PRODID:-//Diputació de Barcelona//DibaCMS//EN
BEGIN:VEVENT
UID:57001
DTSTAMP:20260421T000426
DTSTART:20230715T190000
DTEND:20230715T190000
SUMMARY:Llinars Rock 2023
LOCATION:Av. del Mogent, davant la fàbrica Hidrocolor. 
METHOD:PUBLISH
X-WR-CALNAME:info@llinarsdelvalles.cat
X-WR-TIMEZONE:Europe/Madrid
DESCRIPTION:A partir de les 19 hores. 

Organitza: Associació la Batzegada.

URI:https://www.llinarsdelvalles.cat/actualitat/agenda/llinars-rock-2023.html
CLASS:PUBLIC
END:VEVENT
END:VCALENDAR
