BEGIN:VCALENDAR
VERSION:2.0
CALSCALE:GREGORIAN
PRODID:-//Diputació de Barcelona//DibaCMS//EN
BEGIN:VEVENT
UID:57002
DTSTAMP:20260421T051126
DTSTART:20230718T180000
DTEND:20230718T180000
SUMMARY:Jocs Gegants
LOCATION:Av. Pau Casals, 26 08450 Llinars del Vallès
METHOD:PUBLISH
X-WR-CALNAME:info@llinarsdelvalles.cat
X-WR-TIMEZONE:Europe/Madrid
DESCRIPTION:De 18 a 20 hores.

A càrrec de Mou fitxa.

URI:https://www.llinarsdelvalles.cat/actualitat/agenda/57002-jocs-gegants.html
CLASS:PUBLIC
END:VEVENT
END:VCALENDAR
