BEGIN:VCALENDAR
VERSION:2.0
CALSCALE:GREGORIAN
PRODID:-//Diputació de Barcelona//DibaCMS//EN
BEGIN:VEVENT
UID:57003
DTSTAMP:20260421T054121
DTSTART:20230720T190000
DTEND:20230720T190000
SUMMARY:Concert Gospel
LOCATION:Av. Pau Casals, 26 08450 Llinars del Vallès
METHOD:PUBLISH
X-WR-CALNAME:info@llinarsdelvalles.cat
X-WR-TIMEZONE:Europe/Madrid
DESCRIPTION:A càrrec de Cor Gospel Llinars amb la col·laboració de G de Gospel dirigit per Gerson Gelabert.

URI:https://www.llinarsdelvalles.cat/actualitat/agenda/concert-gospel.html
CLASS:PUBLIC
END:VEVENT
END:VCALENDAR
