BEGIN:VCALENDAR
VERSION:2.0
CALSCALE:GREGORIAN
PRODID:-//Diputació de Barcelona//DibaCMS//EN
BEGIN:VEVENT
UID:57004
DTSTAMP:20260421T023255
DTSTART:20230721T180000
DTEND:20230721T180000
SUMMARY:LAMASOVIBRA, concurs de DJs!
LOCATION:C/ Mas Bagà, 24 08450 Llinars del Vallés
METHOD:PUBLISH
X-WR-CALNAME:info@llinarsdelvalles.cat
X-WR-TIMEZONE:Europe/Madrid
DESCRIPTION:A partir de les 18 hores. 

Inscripcions al 659300963 o lamasoveria@llinarsdelvalles.cat

URI:https://www.llinarsdelvalles.cat/actualitat/agenda/lamasovibra-concurs-de-djs.html
CLASS:PUBLIC
END:VEVENT
END:VCALENDAR
