BEGIN:VCALENDAR
VERSION:2.0
CALSCALE:GREGORIAN
PRODID:-//Diputació de Barcelona//DibaCMS//EN
BEGIN:VEVENT
UID:57010
DTSTAMP:20260421T023757
DTSTART:20230722T000000
DTEND:20230722T000000
SUMMARY:Excursió a la Vall de Camprodon i Prats de Molló
LOCATION:
METHOD:PUBLISH
X-WR-CALNAME:info@llinarsdelvalles.cat
X-WR-TIMEZONE:Europe/Madrid
DESCRIPTION:Organitza: Associació de Gent Gran i Pensionista.

URI:https://www.llinarsdelvalles.cat/actualitat/agenda/excursio-a-la-vall-de-camprodon-i-prats-de-mollo.html
CLASS:PUBLIC
END:VEVENT
END:VCALENDAR
