BEGIN:VCALENDAR
VERSION:2.0
CALSCALE:GREGORIAN
PRODID:-//Diputació de Barcelona//DibaCMS//EN
BEGIN:VEVENT
UID:57012
DTSTAMP:20260421T050353
DTSTART:20230727T183000
DTEND:20230727T183000
SUMMARY:Taller infantil "Aparador d'estiu"
LOCATION:Av. Pau Casals, 26 08450 Llinars del Vallès
METHOD:PUBLISH
X-WR-CALNAME:info@llinarsdelvalles.cat
X-WR-TIMEZONE:Europe/Madrid
DESCRIPTION:A càrrec de personal de la biblioteca.

URI:https://www.llinarsdelvalles.cat/actualitat/agenda/taller-infantil-aparador-destiu.html
CLASS:PUBLIC
END:VEVENT
END:VCALENDAR
