BEGIN:VCALENDAR
VERSION:2.0
CALSCALE:GREGORIAN
PRODID:-//Diputació de Barcelona//DibaCMS//EN
BEGIN:VEVENT
UID:57013
DTSTAMP:20260421T045736
DTSTART:20230722T084500
DTEND:20230722T084500
SUMMARY:Festa Major de Can Boatell
LOCATION:08450 Llinars del Vallès
METHOD:PUBLISH
X-WR-CALNAME:info@llinarsdelvalles.cat
X-WR-TIMEZONE:Europe/Madrid
DESCRIPTION:Organitza: Av. de Can Boatell

URI:https://www.llinarsdelvalles.cat/actualitat/agenda/festa-major-de-can-boatell.html
CLASS:PUBLIC
END:VEVENT
END:VCALENDAR
