BEGIN:VCALENDAR
VERSION:2.0
CALSCALE:GREGORIAN
PRODID:-//Diputació de Barcelona//DibaCMS//EN
BEGIN:VEVENT
UID:57016
DTSTAMP:20260421T045520
DTSTART:20230729T200000
DTEND:20230730T180000
SUMMARY:Festa Major de Collsabadell
LOCATION:Plaça de la Parròquia 
METHOD:PUBLISH
X-WR-CALNAME:info@llinarsdelvalles.cat
X-WR-TIMEZONE:Europe/Madrid
DESCRIPTION:29 i 30 de juliol de 2023.

Organitza: Colla Gegantera la Patufa amb la col·laboració de l'Av. de Collsabadell.

URI:https://www.llinarsdelvalles.cat/actualitat/agenda/57016-festa-major-de-collsabadell.html
CLASS:PUBLIC
END:VEVENT
END:VCALENDAR
