BEGIN:VCALENDAR
VERSION:2.0
CALSCALE:GREGORIAN
PRODID:-//Diputació de Barcelona//DibaCMS//EN
BEGIN:VEVENT
UID:57017
DTSTAMP:20260421T055442
DTSTART:20230730T170000
DTEND:20230730T170000
SUMMARY:Ball "Anem de Vacances"
LOCATION:C/ Ramon i Cajal - (cantonada Av. Granollers) 08450 Llinars del Vallés
METHOD:PUBLISH
X-WR-CALNAME:info@llinarsdelvalles.cat
X-WR-TIMEZONE:Europe/Madrid
DESCRIPTION:Amb Xarop de Nit
Organitza: Associació de Gent Gran i Pensionista.

URI:https://www.llinarsdelvalles.cat/actualitat/agenda/ball-anem-de-vacances.html
CLASS:PUBLIC
END:VEVENT
END:VCALENDAR
