BEGIN:VCALENDAR
VERSION:2.0
CALSCALE:GREGORIAN
PRODID:-//Diputació de Barcelona//DibaCMS//EN
BEGIN:VEVENT
UID:57018
DTSTAMP:20260421T024320
DTSTART:20230805T210000
DTEND:20230806T193000
SUMMARY:Festa Major de Sant Esteve del Coll
LOCATION:08450 Llinars del Vallès
METHOD:PUBLISH
X-WR-CALNAME:info@llinarsdelvalles.cat
X-WR-TIMEZONE:Europe/Madrid
DESCRIPTION:Organitza: Associació de veïns de St. Esteve del Coll.

URI:https://www.llinarsdelvalles.cat/actualitat/agenda/57018-festa-major-de-sant-esteve-del-coll.html
CLASS:PUBLIC
END:VEVENT
END:VCALENDAR
