BEGIN:VCALENDAR
VERSION:2.0
CALSCALE:GREGORIAN
PRODID:-//Diputació de Barcelona//DibaCMS//EN
BEGIN:VEVENT
UID:57037
DTSTAMP:20260421T023843
DTSTART:20230906T000000
DTEND:20230910T000000
SUMMARY:Festa Major 2023
LOCATION:
METHOD:PUBLISH
X-WR-CALNAME:info@llinarsdelvalles.cat
X-WR-TIMEZONE:Europe/Madrid
DESCRIPTION:
URI:https://www.llinarsdelvalles.cat/actualitat/agenda/57037-festa-major-2023.html
CLASS:PUBLIC
END:VEVENT
END:VCALENDAR
