BEGIN:VCALENDAR
VERSION:2.0
CALSCALE:GREGORIAN
PRODID:-//Diputació de Barcelona//DibaCMS//EN
BEGIN:VEVENT
UID:57051
DTSTAMP:20260421T063139
DTSTART:20230905T180000
DTEND:20230905T200000
SUMMARY:JOCS GEGANTS
LOCATION:Av. Pau Casals, 26 08450 Llinars del Vallès
METHOD:PUBLISH
X-WR-CALNAME:info@llinarsdelvalles.cat
X-WR-TIMEZONE:Europe/Madrid
DESCRIPTION:A càrrec de Mou fitxa.

Davant la façana de la biblioteca.

URI:https://www.llinarsdelvalles.cat/actualitat/agenda/57051-jocs-gegants.html
CLASS:PUBLIC
END:VEVENT
END:VCALENDAR
