BEGIN:VCALENDAR
VERSION:2.0
CALSCALE:GREGORIAN
PRODID:-//Diputació de Barcelona//DibaCMS//EN
BEGIN:VEVENT
UID:57055
DTSTAMP:20260421T081744
DTSTART:20230915T190000
DTEND:20230915T190000
SUMMARY:PRESENTACIÓ km0
LOCATION:Av. Pau Casals, 26 08450 Llinars del Vallès
METHOD:PUBLISH
X-WR-CALNAME:info@llinarsdelvalles.cat
X-WR-TIMEZONE:Europe/Madrid
DESCRIPTION:L'ADMINISTRATIVA de Jèssica Roca

Sense incripció prèvia.

URI:https://www.llinarsdelvalles.cat/actualitat/agenda/presentacio-km0.html
CLASS:PUBLIC
END:VEVENT
END:VCALENDAR
