BEGIN:VCALENDAR
VERSION:2.0
CALSCALE:GREGORIAN
PRODID:-//Diputació de Barcelona//DibaCMS//EN
BEGIN:VEVENT
UID:57059
DTSTAMP:20260421T065304
DTSTART:20230930T110000
DTEND:20230930T110000
SUMMARY:HORA MENUDA
LOCATION:Av. Pau Casals, 26 08450 Llinars del Vallès
METHOD:PUBLISH
X-WR-CALNAME:info@llinarsdelvalles.cat
X-WR-TIMEZONE:Europe/Madrid
DESCRIPTION:MÚSICA EN FAMÍLIA

A càrrec d'Aina Camp.

D'1 a 3 anys.

Inscripció: www.bibliotecacancasas.cat

URI:https://www.llinarsdelvalles.cat/actualitat/agenda/hora-menuda.html
CLASS:PUBLIC
END:VEVENT
END:VCALENDAR
