BEGIN:VCALENDAR
VERSION:2.0
CALSCALE:GREGORIAN
PRODID:-//Diputació de Barcelona//DibaCMS//EN
BEGIN:VEVENT
UID:57072
DTSTAMP:20260421T085411
DTSTART:20231004T170000
DTEND:20231004T170000
SUMMARY:Consells per millorar l'artrosi
LOCATION:C/ Ramon i Cajal - (cantonada Av. Granollers) 08450 Llinars del Vallés
METHOD:PUBLISH
X-WR-CALNAME:info@llinarsdelvalles.cat
X-WR-TIMEZONE:Europe/Madrid
DESCRIPTION:A càrrec de la Doctora Raquel Tomàs.

URI:https://www.llinarsdelvalles.cat/actualitat/agenda/consells-per-millorar-lartrosi.html
CLASS:PUBLIC
END:VEVENT
END:VCALENDAR
