BEGIN:VCALENDAR
VERSION:2.0
CALSCALE:GREGORIAN
PRODID:-//Diputació de Barcelona//DibaCMS//EN
BEGIN:VEVENT
UID:57074
DTSTAMP:20260421T073045
DTSTART:20231010T170000
DTEND:20231010T170000
SUMMARY:Jornada "A totes per la salut mental"
LOCATION:Plaça dels Països Catalans. 
METHOD:PUBLISH
X-WR-CALNAME:info@llinarsdelvalles.cat
X-WR-TIMEZONE:Europe/Madrid
DESCRIPTION:Activitats obertes a tothom, organitzades per la fundació Lar.

URI:https://www.llinarsdelvalles.cat/actualitat/agenda/jornada-a-totes-per-la-salut-mental.html
CLASS:PUBLIC
END:VEVENT
END:VCALENDAR
