BEGIN:VCALENDAR
VERSION:2.0
CALSCALE:GREGORIAN
PRODID:-//Diputació de Barcelona//DibaCMS//EN
BEGIN:VEVENT
UID:57083
DTSTAMP:20260421T032911
DTSTART:20230923T190000
DTEND:20230923T190000
SUMMARY:Acte de reconeixement a esportistes de Llinars
LOCATION:Av. Pau Casals, 22-24 (Àrea central) 08450 Llinars del Vallès
METHOD:PUBLISH
X-WR-CALNAME:info@llinarsdelvalles.cat
X-WR-TIMEZONE:Europe/Madrid
DESCRIPTION:
URI:https://www.llinarsdelvalles.cat/actualitat/agenda/acte-de-reconeixement-a-esportistes-de-llinars.html
CLASS:PUBLIC
END:VEVENT
END:VCALENDAR
