BEGIN:VCALENDAR
VERSION:2.0
CALSCALE:GREGORIAN
PRODID:-//Diputació de Barcelona//DibaCMS//EN
BEGIN:VEVENT
UID:57094
DTSTAMP:20260421T035315
DTSTART:20231014T120000
DTEND:20231014T120000
SUMMARY:Presentació de la novel·la Carta d'Hivern
LOCATION:08450 Llinars del Vallès
METHOD:PUBLISH
X-WR-CALNAME:info@llinarsdelvalles.cat
X-WR-TIMEZONE:Europe/Madrid
DESCRIPTION:De Teresa Pous.

URI:https://www.llinarsdelvalles.cat/actualitat/agenda/presentacio-de-la-novella-carta-dhivern.html
CLASS:PUBLIC
END:VEVENT
END:VCALENDAR
