BEGIN:VCALENDAR
VERSION:2.0
CALSCALE:GREGORIAN
PRODID:-//Diputació de Barcelona//DibaCMS//EN
BEGIN:VEVENT
UID:57097
DTSTAMP:20260421T050536
DTSTART:20231002T000000
DTEND:20231027T000000
SUMMARY:Exposició "Caminant pel nord"
LOCATION:Av. Pau Casals, 26 08450 Llinars del Vallès
METHOD:PUBLISH
X-WR-CALNAME:info@llinarsdelvalles.cat
X-WR-TIMEZONE:Europe/Madrid
DESCRIPTION:Pintures de Ruth Serrano Climent.

URI:https://www.llinarsdelvalles.cat/actualitat/agenda/exposicio-caminant-pel-nord.html
CLASS:PUBLIC
END:VEVENT
END:VCALENDAR
