BEGIN:VCALENDAR
VERSION:2.0
CALSCALE:GREGORIAN
PRODID:-//Diputació de Barcelona//DibaCMS//EN
BEGIN:VEVENT
UID:57098
DTSTAMP:20260420T230128
DTSTART:20231026T180000
DTEND:20231026T180000
SUMMARY:TALLER CONNECTA'T Tallers d'alfabetització digital
LOCATION:Av. Pau Casals, 26 08450 Llinars del Vallès
METHOD:PUBLISH
X-WR-CALNAME:info@llinarsdelvalles.cat
X-WR-TIMEZONE:Europe/Madrid
DESCRIPTION:Certificats digitals. Quines opcions tenim i per què serveixen? Eines per poder signar documents electrònics.

Inscripció: www.bibliotecacancasas.cat

A càrrec de David Serra, consultor de BUISI TOOLS.

URI:https://www.llinarsdelvalles.cat/actualitat/agenda/57098-taller-connectat-tallers-dalfabetitzacio-digital.html
CLASS:PUBLIC
END:VEVENT
END:VCALENDAR
