BEGIN:VCALENDAR
VERSION:2.0
CALSCALE:GREGORIAN
PRODID:-//Diputació de Barcelona//DibaCMS//EN
BEGIN:VEVENT
UID:57101
DTSTAMP:20260421T024304
DTSTART:20231011T180000
DTEND:20231011T180000
SUMMARY:XERRADA "Buscant la sortida... Quan encara ets adolescent"
LOCATION:Av. Pau Casals, 26 08450 Llinars del Vallès
METHOD:PUBLISH
X-WR-CALNAME:info@llinarsdelvalles.cat
X-WR-TIMEZONE:Europe/Madrid
DESCRIPTION:Xerrada en motiu del dia 10 d'octubre, Dia Mundial de la Salut Mental.

Projectarem el reportatge del programa 30 minuts de TV3, seguit d'un col·loqui moderat per Laia Rivera, referent de Benestar Emocional i Comunitari del CAP.

Sense incripció prèvia.

URI:https://www.llinarsdelvalles.cat/actualitat/agenda/xerrada-buscant-la-sortida-quan-encara-ets-adolescent.html
CLASS:PUBLIC
END:VEVENT
END:VCALENDAR
