BEGIN:VCALENDAR
VERSION:2.0
CALSCALE:GREGORIAN
PRODID:-//Diputació de Barcelona//DibaCMS//EN
BEGIN:VEVENT
UID:57102
DTSTAMP:20260421T001524
DTSTART:20231019T190000
DTEND:20231019T190000
SUMMARY:XERRADA Carme Plana: "Una dona al món rural"
LOCATION:Av. Pau Casals, 26 08450 Llinars del Vallès
METHOD:PUBLISH
X-WR-CALNAME:info@llinarsdelvalles.cat
X-WR-TIMEZONE:Europe/Madrid
DESCRIPTION:Xerrada en motiu del dia 15 d'octubre, Dia Internacional de la Dona al Món Rural.

Programa Parcs i biblioteques... naturalment!

Sense inscripció prèvia.

URI:https://www.llinarsdelvalles.cat/actualitat/agenda/xerrada-carme-plana-una-dona-al-mon-rural.html
CLASS:PUBLIC
END:VEVENT
END:VCALENDAR
