BEGIN:VCALENDAR
VERSION:2.0
CALSCALE:GREGORIAN
PRODID:-//Diputació de Barcelona//DibaCMS//EN
BEGIN:VEVENT
UID:57105
DTSTAMP:20260421T031902
DTSTART:20231021T110000
DTEND:20231021T110000
SUMMARY:HORA MENUDA " La tardor i la Castanyera"
LOCATION:Av. Pau Casals, 26 08450 Llinars del Vallès
METHOD:PUBLISH
X-WR-CALNAME:info@llinarsdelvalles.cat
X-WR-TIMEZONE:Europe/Madrid
DESCRIPTION:A càrrec de Musicanna.

D'1 a 3 anys. 

Inscripcions: www.bibliotecacancasas.cat

URI:https://www.llinarsdelvalles.cat/actualitat/agenda/hora-menuda--la-tardor-i-la-castanyera.html
CLASS:PUBLIC
END:VEVENT
END:VCALENDAR
