BEGIN:VCALENDAR
VERSION:2.0
CALSCALE:GREGORIAN
PRODID:-//Diputació de Barcelona//DibaCMS//EN
BEGIN:VEVENT
UID:57108
DTSTAMP:20260421T023918
DTSTART:20231023T000000
DTEND:20231024T000000
SUMMARY:Taller de pastissos de tardor
LOCATION:C/ Josep Argila, 39 08450 Llinars del Vallés
METHOD:PUBLISH
X-WR-CALNAME:info@llinarsdelvalles.cat
X-WR-TIMEZONE:Europe/Madrid
DESCRIPTION:A càrrec de la Xef Tina.

URI:https://www.llinarsdelvalles.cat/actualitat/agenda/taller-de-pastissos-de-tardor.html
CLASS:PUBLIC
END:VEVENT
END:VCALENDAR
