BEGIN:VCALENDAR
VERSION:2.0
CALSCALE:GREGORIAN
PRODID:-//Diputació de Barcelona//DibaCMS//EN
BEGIN:VEVENT
UID:57117
DTSTAMP:20260421T003408
DTSTART:20231201T170000
DTEND:20231201T170000
SUMMARY:Ioga en família 
LOCATION:
METHOD:PUBLISH
X-WR-CALNAME:info@llinarsdelvalles.cat
X-WR-TIMEZONE:Europe/Madrid
DESCRIPTION:A càrrec d'Angie Palacios.

URI:https://www.llinarsdelvalles.cat/actualitat/agenda/ioga-en-familia-.html
CLASS:PUBLIC
END:VEVENT
END:VCALENDAR
