BEGIN:VCALENDAR
VERSION:2.0
CALSCALE:GREGORIAN
PRODID:-//Diputació de Barcelona//DibaCMS//EN
BEGIN:VEVENT
UID:57118
DTSTAMP:20260420T185525
DTSTART:20231103T000000
DTEND:20231108T000000
SUMMARY:CulturaMENT
LOCATION:Ronda Sant Antoni, 19 08450 Llinars del Vallès
METHOD:PUBLISH
X-WR-CALNAME:info@llinarsdelvalles.cat
X-WR-TIMEZONE:Europe/Madrid
DESCRIPTION:Quinzena de la cultura i l'art al servei de les persones amb malalties neurodegeneratives.

URI:https://www.llinarsdelvalles.cat/actualitat/agenda/culturament.html
CLASS:PUBLIC
END:VEVENT
END:VCALENDAR
