BEGIN:VCALENDAR
VERSION:2.0
CALSCALE:GREGORIAN
PRODID:-//Diputació de Barcelona//DibaCMS//EN
BEGIN:VEVENT
UID:57127
DTSTAMP:20260420T230629
DTSTART:20231117T170000
DTEND:20231117T170000
SUMMARY:La música com a millora del nostre benestar emocional
LOCATION:C/ Ramon i Cajal - (cantonada Av. Granollers) 08450 Llinars del Vallés
METHOD:PUBLISH
X-WR-CALNAME:info@llinarsdelvalles.cat
X-WR-TIMEZONE:Europe/Madrid
DESCRIPTION:A càrrec de Mateu Aragall, músic i terapeuta.

URI:https://www.llinarsdelvalles.cat/actualitat/agenda/la-musica-com-a-millora-del-nostre-benestar-emocional.html
CLASS:PUBLIC
END:VEVENT
END:VCALENDAR
